BEGIN:VCALENDAR
VERSION:2.0
PRODID:-// - ECPv6.15.16.1//NONSGML v1.0//EN
CALSCALE:GREGORIAN
METHOD:PUBLISH
X-ORIGINAL-URL:https://bowlnv.com
X-WR-CALDESC:Events for 
REFRESH-INTERVAL;VALUE=DURATION:PT1H
X-Robots-Tag:noindex
X-PUBLISHED-TTL:PT1H
BEGIN:VTIMEZONE
TZID:America/Los_Angeles
BEGIN:DAYLIGHT
TZOFFSETFROM:-0800
TZOFFSETTO:-0700
TZNAME:PDT
DTSTART:20250309T100000
END:DAYLIGHT
BEGIN:STANDARD
TZOFFSETFROM:-0700
TZOFFSETTO:-0800
TZNAME:PST
DTSTART:20251102T090000
END:STANDARD
BEGIN:DAYLIGHT
TZOFFSETFROM:-0800
TZOFFSETTO:-0700
TZNAME:PDT
DTSTART:20260308T100000
END:DAYLIGHT
BEGIN:STANDARD
TZOFFSETFROM:-0700
TZOFFSETTO:-0800
TZNAME:PST
DTSTART:20261101T090000
END:STANDARD
BEGIN:DAYLIGHT
TZOFFSETFROM:-0800
TZOFFSETTO:-0700
TZNAME:PDT
DTSTART:20270314T100000
END:DAYLIGHT
BEGIN:STANDARD
TZOFFSETFROM:-0700
TZOFFSETTO:-0800
TZNAME:PST
DTSTART:20271107T090000
END:STANDARD
END:VTIMEZONE
BEGIN:VEVENT
DTSTART;VALUE=DATE:20260417
DTEND;VALUE=DATE:20260420
DTSTAMP:20260423T095306
CREATED:20210115T215721Z
LAST-MODIFIED:20250731T213308Z
UID:4276-1776384000-1776643199@bowlnv.com
SUMMARY:2026 Nevada State Open Championship (2nd Weekend)
DESCRIPTION:
URL:https://bowlnv.com/event/nevada-state-open-championship/
LOCATION:Suncoast Bowling Center\, 9090 Alta Drive\, Las Vegas\, NV\, 89128\, United States
END:VEVENT
BEGIN:VEVENT
DTSTART;VALUE=DATE:20260417
DTEND;VALUE=DATE:20260420
DTSTAMP:20260423T095306
CREATED:20240316T171856Z
LAST-MODIFIED:20250731T213238Z
UID:5915-1776384000-1776643199@bowlnv.com
SUMMARY:2026 Nevada State Womens Championship (2nd Weekend)
DESCRIPTION:
URL:https://bowlnv.com/event/nevada-state-womens-championship/
LOCATION:Suncoast Bowling Center\, 9090 Alta Drive\, Las Vegas\, NV\, 89128\, United States
CATEGORIES:Tournament
END:VEVENT
END:VCALENDAR