BEGIN:VCALENDAR
VERSION:2.0
PRODID:-// - ECPv6.15.16.1//NONSGML v1.0//EN
CALSCALE:GREGORIAN
METHOD:PUBLISH
X-ORIGINAL-URL:https://bowlnv.com
X-WR-CALDESC:Events for 
REFRESH-INTERVAL;VALUE=DURATION:PT1H
X-Robots-Tag:noindex
X-PUBLISHED-TTL:PT1H
BEGIN:VTIMEZONE
TZID:America/Los_Angeles
BEGIN:DAYLIGHT
TZOFFSETFROM:-0800
TZOFFSETTO:-0700
TZNAME:PDT
DTSTART:20240310T100000
END:DAYLIGHT
BEGIN:STANDARD
TZOFFSETFROM:-0700
TZOFFSETTO:-0800
TZNAME:PST
DTSTART:20241103T090000
END:STANDARD
BEGIN:DAYLIGHT
TZOFFSETFROM:-0800
TZOFFSETTO:-0700
TZNAME:PDT
DTSTART:20250309T100000
END:DAYLIGHT
BEGIN:STANDARD
TZOFFSETFROM:-0700
TZOFFSETTO:-0800
TZNAME:PST
DTSTART:20251102T090000
END:STANDARD
BEGIN:DAYLIGHT
TZOFFSETFROM:-0800
TZOFFSETTO:-0700
TZNAME:PDT
DTSTART:20260308T100000
END:DAYLIGHT
BEGIN:STANDARD
TZOFFSETFROM:-0700
TZOFFSETTO:-0800
TZNAME:PST
DTSTART:20261101T090000
END:STANDARD
END:VTIMEZONE
BEGIN:VEVENT
DTSTART;VALUE=DATE:20251010
DTEND;VALUE=DATE:20251013
DTSTAMP:20260423T154120
CREATED:20230505T234742Z
LAST-MODIFIED:20250731T221019Z
UID:5711-1760054400-1760313599@bowlnv.com
SUMMARY:2025 Nevada State Senior Singles Championship (2nd Weekend)
DESCRIPTION:
URL:https://bowlnv.com/event/nevada-state-usbc-20213-senior-singles-championship-2/
LOCATION:Riverside Lanes\, 1650 S. Casino Dr.\, Laughlin\, Nevada\, 89029
END:VEVENT
BEGIN:VEVENT
DTSTART;VALUE=DATE:20251003
DTEND;VALUE=DATE:20251006
DTSTAMP:20260423T154120
CREATED:20230505T234634Z
LAST-MODIFIED:20250731T221037Z
UID:5709-1759449600-1759708799@bowlnv.com
SUMMARY:2025 Nevada State Senior Singles Championship (1st Weekend)
DESCRIPTION:
URL:https://bowlnv.com/event/nevada-state-usbc-20213-senior-singles-championship/
LOCATION:Riverside Lanes\, 1650 S. Casino Dr.\, Laughlin\, Nevada\, 89029
CATEGORIES:Tournament
END:VEVENT
END:VCALENDAR